BEGIN:VCALENDAR
METHOD:PUBLISH
VERSION:2.0
CALSCALE:GREGORIAN
PRODID:-//NONSGML WPForms//NONSGML Sugar Calendar Feeds v3.9.0//EN
X-WR-CALNAME:Adult Mission Trip to Marsh Harbour\, Bahamas
X-WR-CALDESC:Palm Beach Lakes church of Christ
X-WR-TIMEZONE:America/New_York
BEGIN:VTIMEZONE
TZID:America/New_York
BEGIN:DAYLIGHT
TZOFFSETFROM:-0500
TZOFFSETTO:-0400
DTSTART:20260308T070000
TZNAME:EDT
END:DAYLIGHT
END:VTIMEZONE
BEGIN:VTIMEZONE
TZID:America/New_York
BEGIN:DAYLIGHT
TZOFFSETFROM:-0500
TZOFFSETTO:-0400
DTSTART:20260308T070000
TZNAME:EDT
END:DAYLIGHT
END:VTIMEZONE
BEGIN:VEVENT
SUMMARY:Adult Mission Trip to Marsh Harbour\, Bahamas
DESCRIPTION:Adult Mission Trip to Marsh Harbour\, Bahamas.  See Ivan Vi
 llard or Jeff Leslie for more details.
URL;VALUE=URI:https://pblcoc.org/events/adult-mission-trip-to-marsh-harb
 our-bahamas/
UID:urn:uuid:3e045a7d-6cc7-4937-afd3-9a9d09db0661
STATUS:CONFIRMED
ORGANIZER:
DTSTAMP:20260417T171702Z
DTSTART;VALUE=DATE:20260727
DTEND;VALUE=DATE:20260803
END:VEVENT
END:VCALENDAR