BEGIN:VCALENDAR
METHOD:PUBLISH
VERSION:2.0
CALSCALE:GREGORIAN
PRODID:-//NONSGML WPForms//NONSGML Sugar Calendar Feeds v3.9.0//EN
X-WR-CALNAME:Congregational Work Day
X-WR-CALDESC:Palm Beach Lakes church of Christ
X-WR-TIMEZONE:America/New_York
BEGIN:VTIMEZONE
TZID:America/New_York
BEGIN:STANDARD
TZOFFSETFROM:-0400
TZOFFSETTO:-0500
DTSTART:20251102T060000
TZNAME:EST
END:STANDARD
BEGIN:DAYLIGHT
TZOFFSETFROM:-0500
TZOFFSETTO:-0400
DTSTART:20260308T070000
TZNAME:EDT
END:DAYLIGHT
END:VTIMEZONE
BEGIN:VTIMEZONE
TZID:America/New_York
BEGIN:STANDARD
TZOFFSETFROM:-0400
TZOFFSETTO:-0500
DTSTART:20251102T060000
TZNAME:EST
END:STANDARD
BEGIN:DAYLIGHT
TZOFFSETFROM:-0500
TZOFFSETTO:-0400
DTSTART:20260308T070000
TZNAME:EDT
END:DAYLIGHT
END:VTIMEZONE
BEGIN:VEVENT
SUMMARY:Congregational Work Day
DESCRIPTION:Congregational Work Day from 9:00 a.m. until noon.  Please 
 see Tim Fry or Ivan Villard for more details.
URL;VALUE=URI:https://pblcoc.org/events/congregational-work-day/
UID:urn:uuid:dfedba4e-c679-4cf0-b4ab-52ca5dd6eafe
STATUS:CONFIRMED
ORGANIZER:
DTSTAMP:20260417T045942Z
DTSTART;TZID=America/New_York:20260314T090000
DTEND;TZID=America/New_York:20260314T120000
END:VEVENT
END:VCALENDAR