BEGIN:VCALENDAR
METHOD:PUBLISH
VERSION:2.0
CALSCALE:GREGORIAN
PRODID:-//NONSGML WPForms//NONSGML Sugar Calendar Feeds v3.9.0//EN
X-WR-CALNAME:EDP Bible Study & Fellowship
X-WR-CALDESC:Palm Beach Lakes church of Christ
X-WR-TIMEZONE:America/New_York
BEGIN:VTIMEZONE
TZID:America/New_York
BEGIN:STANDARD
TZOFFSETFROM:-0400
TZOFFSETTO:-0500
DTSTART:20251102T060000
TZNAME:EST
END:STANDARD
BEGIN:DAYLIGHT
TZOFFSETFROM:-0500
TZOFFSETTO:-0400
DTSTART:20260308T070000
TZNAME:EDT
END:DAYLIGHT
END:VTIMEZONE
BEGIN:VTIMEZONE
TZID:America/New_York
BEGIN:STANDARD
TZOFFSETFROM:-0400
TZOFFSETTO:-0500
DTSTART:20251102T060000
TZNAME:EST
END:STANDARD
BEGIN:DAYLIGHT
TZOFFSETFROM:-0500
TZOFFSETTO:-0400
DTSTART:20260308T070000
TZNAME:EDT
END:DAYLIGHT
END:VTIMEZONE
BEGIN:VEVENT
SUMMARY:EDP Bible Study & Fellowship
DESCRIPTION:EDP Bible Study &amp\; Fellowship at 4:30 p.m. in the Family
  Room.
URL;VALUE=URI:https://pblcoc.org/events/edp-bible-study-fellowship/
UID:urn:uuid:c09577e5-9e58-4e11-90d1-c85d4f616e20
STATUS:CONFIRMED
ORGANIZER:
DTSTAMP:20260417T072525Z
DTSTART;TZID=America/New_York:20260329T163000
DTEND;TZID=America/New_York:20260329T180000
END:VEVENT
END:VCALENDAR