BEGIN:VCALENDAR
METHOD:PUBLISH
VERSION:2.0
CALSCALE:GREGORIAN
PRODID:-//NONSGML WPForms//NONSGML Sugar Calendar Feeds v3.9.0//EN
X-WR-CALNAME:Elders' Workshop with Jeff Jenkins
X-WR-CALDESC:Palm Beach Lakes church of Christ
X-WR-TIMEZONE:America/New_York
BEGIN:VTIMEZONE
TZID:America/New_York
BEGIN:STANDARD
TZOFFSETFROM:-0400
TZOFFSETTO:-0500
DTSTART:20251102T060000
TZNAME:EST
END:STANDARD
BEGIN:DAYLIGHT
TZOFFSETFROM:-0500
TZOFFSETTO:-0400
DTSTART:20260308T070000
TZNAME:EDT
END:DAYLIGHT
END:VTIMEZONE
BEGIN:VTIMEZONE
TZID:America/New_York
BEGIN:STANDARD
TZOFFSETFROM:-0400
TZOFFSETTO:-0500
DTSTART:20251102T060000
TZNAME:EST
END:STANDARD
BEGIN:DAYLIGHT
TZOFFSETFROM:-0500
TZOFFSETTO:-0400
DTSTART:20260308T070000
TZNAME:EDT
END:DAYLIGHT
END:VTIMEZONE
BEGIN:VEVENT
SUMMARY:Elders' Workshop with Jeff Jenkins
DESCRIPTION:Elders' Workshop with Jeff Jenkins at 9:00 a.m.  Jeff will 
 be addressing vital topics for today's elders.  Click here for more det
 ails.\nThen\, stay for Power Up! A Recharge for Christian Men (11:00 a.m
 . - 2:00 p.m.)\n\n\n\n&nbsp\;
URL;VALUE=URI:https://pblcoc.org/events/elders-workshop-with-jeff-jenkin
 s/
UID:urn:uuid:3fc3841e-3333-4f6d-93f5-d07fbc6bf236
STATUS:CONFIRMED
ORGANIZER:
DTSTAMP:20260417T082817Z
DTSTART;VALUE=DATE:20260502
END:VEVENT
END:VCALENDAR