BEGIN:VCALENDAR
METHOD:PUBLISH
VERSION:2.0
CALSCALE:GREGORIAN
PRODID:-//NONSGML WPForms//NONSGML Sugar Calendar Feeds v3.9.0//EN
X-WR-CALNAME:Good News Weekend with Justin Rogers
X-WR-CALDESC:Palm Beach Lakes church of Christ
X-WR-TIMEZONE:America/New_York
BEGIN:VTIMEZONE
TZID:America/New_York
BEGIN:STANDARD
TZOFFSETFROM:-0400
TZOFFSETTO:-0500
DTSTART:20251102T060000
TZNAME:EST
END:STANDARD
BEGIN:DAYLIGHT
TZOFFSETFROM:-0500
TZOFFSETTO:-0400
DTSTART:20260308T070000
TZNAME:EDT
END:DAYLIGHT
END:VTIMEZONE
BEGIN:VTIMEZONE
TZID:America/New_York
BEGIN:STANDARD
TZOFFSETFROM:-0400
TZOFFSETTO:-0500
DTSTART:20251102T060000
TZNAME:EST
END:STANDARD
BEGIN:DAYLIGHT
TZOFFSETFROM:-0500
TZOFFSETTO:-0400
DTSTART:20260308T070000
TZNAME:EDT
END:DAYLIGHT
END:VTIMEZONE
BEGIN:VEVENT
SUMMARY:Good News Weekend with Justin Rogers
DESCRIPTION:Good News Weekend with Justin Rogers. Click here for the ful
 l schedule.
URL;VALUE=URI:https://pblcoc.org/events/good-news-weekend-with-justin-ro
 gers/
UID:urn:uuid:86025715-ba13-47c0-8440-b60f868e89c4
STATUS:CONFIRMED
ORGANIZER:
DTSTAMP:20260417T082700Z
DTSTART;VALUE=DATE:20260320
DTEND;VALUE=DATE:20260322
END:VEVENT
END:VCALENDAR