BEGIN:VCALENDAR
METHOD:PUBLISH
VERSION:2.0
CALSCALE:GREGORIAN
PRODID:-//NONSGML WPForms//NONSGML Sugar Calendar Feeds v3.9.0//EN
X-WR-CALNAME:High School Graduates' Luncheon
X-WR-CALDESC:Palm Beach Lakes church of Christ
X-WR-TIMEZONE:America/New_York
BEGIN:VTIMEZONE
TZID:America/New_York
BEGIN:DAYLIGHT
TZOFFSETFROM:-0500
TZOFFSETTO:-0400
DTSTART:20260308T070000
TZNAME:EDT
END:DAYLIGHT
END:VTIMEZONE
BEGIN:VTIMEZONE
TZID:America/New_York
BEGIN:DAYLIGHT
TZOFFSETFROM:-0500
TZOFFSETTO:-0400
DTSTART:20260308T070000
TZNAME:EDT
END:DAYLIGHT
END:VTIMEZONE
BEGIN:VEVENT
SUMMARY:High School Graduates' Luncheon
DESCRIPTION:High School Graduates' Luncheon after morning worship in the
  Family Room.  All members are encouraged to attend and bring a potluck
  dish to share.
URL;VALUE=URI:https://pblcoc.org/events/high-school-graduates-luncheon/
UID:urn:uuid:d04e2611-af0e-4d48-b46f-afae60a88157
STATUS:CONFIRMED
ORGANIZER:
DTSTAMP:20260417T082919Z
DTSTART;TZID=America/New_York:20260524T113000
DTEND;TZID=America/New_York:20260524T130000
END:VEVENT
END:VCALENDAR