BEGIN:VCALENDAR
METHOD:PUBLISH
VERSION:2.0
CALSCALE:GREGORIAN
PRODID:-//NONSGML WPForms//NONSGML Sugar Calendar Feeds v3.9.0//EN
X-WR-CALNAME:His Kids Class
X-WR-CALDESC:Palm Beach Lakes church of Christ
X-WR-TIMEZONE:America/New_York
BEGIN:VTIMEZONE
TZID:America/New_York
BEGIN:STANDARD
TZOFFSETFROM:-0400
TZOFFSETTO:-0500
DTSTART:20251102T060000
TZNAME:EST
END:STANDARD
BEGIN:DAYLIGHT
TZOFFSETFROM:-0500
TZOFFSETTO:-0400
DTSTART:20260308T070000
TZNAME:EDT
END:DAYLIGHT
END:VTIMEZONE
BEGIN:VTIMEZONE
TZID:America/New_York
BEGIN:STANDARD
TZOFFSETFROM:-0400
TZOFFSETTO:-0500
DTSTART:20251102T060000
TZNAME:EST
END:STANDARD
BEGIN:DAYLIGHT
TZOFFSETFROM:-0500
TZOFFSETTO:-0400
DTSTART:20260308T070000
TZNAME:EDT
END:DAYLIGHT
END:VTIMEZONE
BEGIN:VEVENT
SUMMARY:His Kids Class
DESCRIPTION:His Kids Class at 5:30 p.m. for Age 3 and up.  Meet in the 
 front of the auditorium.
URL;VALUE=URI:https://pblcoc.org/events/his-kids-class-7/
UID:urn:uuid:497724d5-71f0-43f2-8fa7-2ce1fc9ec36a
STATUS:CONFIRMED
ORGANIZER:
DTSTAMP:20260417T054142Z
DTSTART;TZID=America/New_York:20260308T173000
DTEND;TZID=America/New_York:20260308T180000
END:VEVENT
END:VCALENDAR