BEGIN:VCALENDAR
METHOD:PUBLISH
VERSION:2.0
CALSCALE:GREGORIAN
PRODID:-//NONSGML WPForms//NONSGML Sugar Calendar Feeds v3.9.0//EN
X-WR-CALNAME:Jr. High & Sr. High Family Devo
X-WR-CALDESC:Palm Beach Lakes church of Christ
X-WR-TIMEZONE:America/New_York
BEGIN:VTIMEZONE
TZID:America/New_York
BEGIN:DAYLIGHT
TZOFFSETFROM:-0500
TZOFFSETTO:-0400
DTSTART:20260308T070000
TZNAME:EDT
END:DAYLIGHT
END:VTIMEZONE
BEGIN:VTIMEZONE
TZID:America/New_York
BEGIN:DAYLIGHT
TZOFFSETFROM:-0500
TZOFFSETTO:-0400
DTSTART:20260308T070000
TZNAME:EDT
END:DAYLIGHT
END:VTIMEZONE
BEGIN:VEVENT
SUMMARY:Jr. High & Sr. High Family Devo
DESCRIPTION:Jr. High &amp\; Sr. High Family Devo after evening worship.Â
   See Robert Lupo for details.
URL;VALUE=URI:https://pblcoc.org/events/jr-high-sr-high-family-devo-2/
UID:urn:uuid:069d6a1c-f916-49d6-b9ac-6471544ad36f
STATUS:CONFIRMED
ORGANIZER:
DTSTAMP:20260417T090052Z
DTSTART;TZID=America/New_York:20260524T193000
DTEND;TZID=America/New_York:20260524T203000
END:VEVENT
END:VCALENDAR