BEGIN:VCALENDAR
METHOD:PUBLISH
VERSION:2.0
CALSCALE:GREGORIAN
PRODID:-//NONSGML WPForms//NONSGML Sugar Calendar Feeds v3.9.0//EN
X-WR-CALNAME:Jr. High & Sr. High Family Devo
X-WR-CALDESC:Palm Beach Lakes church of Christ
X-WR-TIMEZONE:America/New_York
BEGIN:VTIMEZONE
TZID:America/New_York
BEGIN:STANDARD
TZOFFSETFROM:-0400
TZOFFSETTO:-0500
DTSTART:20251102T060000
TZNAME:EST
END:STANDARD
END:VTIMEZONE
BEGIN:VTIMEZONE
TZID:America/New_York
BEGIN:STANDARD
TZOFFSETFROM:-0400
TZOFFSETTO:-0500
DTSTART:20251102T060000
TZNAME:EST
END:STANDARD
END:VTIMEZONE
BEGIN:VEVENT
SUMMARY:Jr. High & Sr. High Family Devo
DESCRIPTION:Jr. High &amp\; Sr. High Family Devo after morning worship.Â
   Bring a potluck dish to share.Â  See Robert Lupo for more details.
URL;VALUE=URI:https://pblcoc.org/events/jr-high-sr-high-family-devo/
UID:urn:uuid:ed4c5e32-15a1-4e05-bd69-89335a458b55
STATUS:CONFIRMED
ORGANIZER:
DTSTAMP:20260417T090105Z
DTSTART;TZID=America/New_York:20260111T113000
DTEND;TZID=America/New_York:20260111T123000
END:VEVENT
END:VCALENDAR