BEGIN:VCALENDAR
METHOD:PUBLISH
VERSION:2.0
CALSCALE:GREGORIAN
PRODID:-//NONSGML WPForms//NONSGML Sugar Calendar Feeds v3.9.0//EN
X-WR-CALNAME:Jr. High & Sr. High Mini Golf
X-WR-CALDESC:Palm Beach Lakes church of Christ
X-WR-TIMEZONE:America/New_York
BEGIN:VTIMEZONE
TZID:America/New_York
BEGIN:STANDARD
TZOFFSETFROM:-0400
TZOFFSETTO:-0500
DTSTART:20251102T060000
TZNAME:EST
END:STANDARD
END:VTIMEZONE
BEGIN:VTIMEZONE
TZID:America/New_York
BEGIN:STANDARD
TZOFFSETFROM:-0400
TZOFFSETTO:-0500
DTSTART:20251102T060000
TZNAME:EST
END:STANDARD
END:VTIMEZONE
BEGIN:VEVENT
SUMMARY:Jr. High & Sr. High Mini Golf
DESCRIPTION:Jr. High &amp\; Sr. High Mini Golf at 6:00 p.m. at Lighthous
 e Cove Adventure Golf located at 1145 Main Street Jupiter\, FL 33458. Th
 e cost is $16 per person\, or $12 if you bring a student ID. See Robert 
 Lupo for more details.
URL;VALUE=URI:https://pblcoc.org/events/jr-high-sr-high-mini-golf/
UID:urn:uuid:f899129c-4f18-4a17-b910-dea2f29d3a63
STATUS:CONFIRMED
ORGANIZER:
DTSTAMP:20260417T075850Z
DTSTART;TZID=America/New_York:20260103T180000
DTEND;TZID=America/New_York:20260103T200000
END:VEVENT
END:VCALENDAR