BEGIN:VCALENDAR
METHOD:PUBLISH
VERSION:2.0
CALSCALE:GREGORIAN
PRODID:-//NONSGML WPForms//NONSGML Sugar Calendar Feeds v3.9.0//EN
X-WR-CALNAME:Ladies' Fellowship
X-WR-CALDESC:Palm Beach Lakes church of Christ
X-WR-TIMEZONE:America/New_York
BEGIN:VTIMEZONE
TZID:America/New_York
BEGIN:STANDARD
TZOFFSETFROM:-0400
TZOFFSETTO:-0500
DTSTART:20251102T060000
TZNAME:EST
END:STANDARD
BEGIN:DAYLIGHT
TZOFFSETFROM:-0500
TZOFFSETTO:-0400
DTSTART:20260308T070000
TZNAME:EDT
END:DAYLIGHT
END:VTIMEZONE
BEGIN:VTIMEZONE
TZID:America/New_York
BEGIN:STANDARD
TZOFFSETFROM:-0400
TZOFFSETTO:-0500
DTSTART:20251102T060000
TZNAME:EST
END:STANDARD
BEGIN:DAYLIGHT
TZOFFSETFROM:-0500
TZOFFSETTO:-0400
DTSTART:20260308T070000
TZNAME:EDT
END:DAYLIGHT
END:VTIMEZONE
BEGIN:VEVENT
SUMMARY:Ladies' Fellowship
DESCRIPTION:Ladies' Fellowship at 6:30 p.m. at HarborChase Assisted Livi
 ng (3000 Central Gardens Circle\, Palm Beach Gardens 33418).  You are i
 nvited to join the ladies of Harbor Chase for a Bible study and tea part
 y.  All food will be provided.  Bring your Bible and a friend.  See S
 kye Brown or Allison Roman for details.
URL;VALUE=URI:https://pblcoc.org/events/ladies-fellowship-2/
UID:urn:uuid:2a31dec3-20a4-471c-acd4-ef1192107676
STATUS:CONFIRMED
ORGANIZER:
DTSTAMP:20260417T040321Z
DTSTART;TZID=America/New_York:20260424T183000
DTEND;TZID=America/New_York:20260424T203000
END:VEVENT
END:VCALENDAR