BEGIN:VCALENDAR
METHOD:PUBLISH
VERSION:2.0
CALSCALE:GREGORIAN
PRODID:-//NONSGML WPForms//NONSGML Sugar Calendar Feeds v3.9.0//EN
X-WR-CALNAME:Leadership Training Camp
X-WR-CALDESC:Palm Beach Lakes church of Christ
X-WR-TIMEZONE:America/New_York
BEGIN:VTIMEZONE
TZID:America/New_York
BEGIN:DAYLIGHT
TZOFFSETFROM:-0500
TZOFFSETTO:-0400
DTSTART:20260308T070000
TZNAME:EDT
END:DAYLIGHT
END:VTIMEZONE
BEGIN:VTIMEZONE
TZID:America/New_York
BEGIN:DAYLIGHT
TZOFFSETFROM:-0500
TZOFFSETTO:-0400
DTSTART:20260308T070000
TZNAME:EDT
END:DAYLIGHT
END:VTIMEZONE
BEGIN:VEVENT
SUMMARY:Leadership Training Camp
DESCRIPTION:Leadership Training Camp for Young Men &amp\; Women.  See D
 an Jenkins\, David Sproule or Robert Lupo for details.
URL;VALUE=URI:https://pblcoc.org/events/leadership-training-camp/
UID:urn:uuid:dcc47b7c-e757-4e9b-8719-d2e76df31d72
STATUS:CONFIRMED
ORGANIZER:
DTSTAMP:20260417T063241Z
DTSTART;VALUE=DATE:20260610
DTEND;VALUE=DATE:20260613
END:VEVENT
END:VCALENDAR