BEGIN:VCALENDAR
METHOD:PUBLISH
VERSION:2.0
CALSCALE:GREGORIAN
PRODID:-//NONSGML WPForms//NONSGML Sugar Calendar Feeds v3.9.0//EN
X-WR-CALNAME:Meeting for All PBL Teachers
X-WR-CALDESC:Palm Beach Lakes church of Christ
X-WR-TIMEZONE:America/New_York
BEGIN:VTIMEZONE
TZID:America/New_York
BEGIN:STANDARD
TZOFFSETFROM:-0400
TZOFFSETTO:-0500
DTSTART:20251102T060000
TZNAME:EST
END:STANDARD
BEGIN:DAYLIGHT
TZOFFSETFROM:-0500
TZOFFSETTO:-0400
DTSTART:20260308T070000
TZNAME:EDT
END:DAYLIGHT
END:VTIMEZONE
BEGIN:VTIMEZONE
TZID:America/New_York
BEGIN:STANDARD
TZOFFSETFROM:-0400
TZOFFSETTO:-0500
DTSTART:20251102T060000
TZNAME:EST
END:STANDARD
BEGIN:DAYLIGHT
TZOFFSETFROM:-0500
TZOFFSETTO:-0400
DTSTART:20260308T070000
TZNAME:EDT
END:DAYLIGHT
END:VTIMEZONE
BEGIN:VEVENT
SUMMARY:Meeting for All PBL Teachers
DESCRIPTION:Meeting for All PBL Teachers at 5:20 p.m. in the Family Room
 .
URL;VALUE=URI:https://pblcoc.org/events/meeting-for-all-pbl-teachers/
UID:urn:uuid:5217b901-0d3f-4e37-8673-7e571ecc4b06
STATUS:CONFIRMED
ORGANIZER:
DTSTAMP:20260417T004405Z
DTSTART;TZID=America/New_York:20260419T172000
DTEND;TZID=America/New_York:20260419T180000
END:VEVENT
END:VCALENDAR