BEGIN:VCALENDAR
METHOD:PUBLISH
VERSION:2.0
CALSCALE:GREGORIAN
PRODID:-//NONSGML WPForms//NONSGML Sugar Calendar Feeds v3.9.0//EN
X-WR-CALNAME:MOM Group Dinner & Devotional
X-WR-CALDESC:Palm Beach Lakes church of Christ
X-WR-TIMEZONE:America/New_York
BEGIN:VTIMEZONE
TZID:America/New_York
BEGIN:STANDARD
TZOFFSETFROM:-0400
TZOFFSETTO:-0500
DTSTART:20251102T060000
TZNAME:EST
END:STANDARD
BEGIN:DAYLIGHT
TZOFFSETFROM:-0500
TZOFFSETTO:-0400
DTSTART:20260308T070000
TZNAME:EDT
END:DAYLIGHT
END:VTIMEZONE
BEGIN:VTIMEZONE
TZID:America/New_York
BEGIN:STANDARD
TZOFFSETFROM:-0400
TZOFFSETTO:-0500
DTSTART:20251102T060000
TZNAME:EST
END:STANDARD
BEGIN:DAYLIGHT
TZOFFSETFROM:-0500
TZOFFSETTO:-0400
DTSTART:20260308T070000
TZNAME:EDT
END:DAYLIGHT
END:VTIMEZONE
BEGIN:VEVENT
SUMMARY:MOM Group Dinner & Devotional
DESCRIPTION:MOM Group Dinner &amp\; Devotional at 6:30 p.m. at the home 
 of Beth Fry.  This is for all PBL moms of children from birth to 18.  
 See Beth Fry\, Misty Hayes or Traci Sproule for more details.
URL;VALUE=URI:https://pblcoc.org/events/mom-group-dinner-devotional-3/
UID:urn:uuid:a5f104a8-2262-4849-be46-21cca6547eac
STATUS:CONFIRMED
ORGANIZER:
DTSTAMP:20260417T082648Z
DTSTART;TZID=America/New_York:20260502T183000
DTEND;TZID=America/New_York:20260502T193000
END:VEVENT
END:VCALENDAR