BEGIN:VCALENDAR
METHOD:PUBLISH
VERSION:2.0
CALSCALE:GREGORIAN
PRODID:-//NONSGML WPForms//NONSGML Sugar Calendar Feeds v3.9.0//EN
X-WR-CALNAME:MOM Group Dinner & Devotional
X-WR-CALDESC:Palm Beach Lakes church of Christ
X-WR-TIMEZONE:America/New_York
BEGIN:VTIMEZONE
TZID:America/New_York
BEGIN:DAYLIGHT
TZOFFSETFROM:-0500
TZOFFSETTO:-0400
DTSTART:20260308T070000
TZNAME:EDT
END:DAYLIGHT
END:VTIMEZONE
BEGIN:VTIMEZONE
TZID:America/New_York
BEGIN:DAYLIGHT
TZOFFSETFROM:-0500
TZOFFSETTO:-0400
DTSTART:20260308T070000
TZNAME:EDT
END:DAYLIGHT
END:VTIMEZONE
BEGIN:VEVENT
SUMMARY:MOM Group Dinner & Devotional
DESCRIPTION:MOM Group Dinner &amp\; Devotional at 6:30 p.m. at the home 
 of Kathy Nelson.  This is for all PBL moms of children from birth to 18
 .  See Beth Fry or Traci Sproule for more details.
URL;VALUE=URI:https://pblcoc.org/events/mom-group-dinner-devotional-4/
UID:urn:uuid:283a0ab8-9296-4cfd-bef4-4a4f8b838706
STATUS:CONFIRMED
ORGANIZER:
DTSTAMP:20260417T075812Z
DTSTART;TZID=America/New_York:20260711T183000
DTEND;TZID=America/New_York:20260711T193000
END:VEVENT
END:VCALENDAR