BEGIN:VCALENDAR
METHOD:PUBLISH
VERSION:2.0
CALSCALE:GREGORIAN
PRODID:-//NONSGML WPForms//NONSGML Sugar Calendar Feeds v3.9.0//EN
X-WR-CALNAME:MOM Group Dinner & Devotional
X-WR-CALDESC:Palm Beach Lakes church of Christ
X-WR-TIMEZONE:America/New_York
BEGIN:VTIMEZONE
TZID:America/New_York
BEGIN:STANDARD
TZOFFSETFROM:-0400
TZOFFSETTO:-0500
DTSTART:20251102T060000
TZNAME:EST
END:STANDARD
END:VTIMEZONE
BEGIN:VTIMEZONE
TZID:America/New_York
BEGIN:STANDARD
TZOFFSETFROM:-0400
TZOFFSETTO:-0500
DTSTART:20251102T060000
TZNAME:EST
END:STANDARD
END:VTIMEZONE
BEGIN:VEVENT
SUMMARY:MOM Group Dinner & Devotional
DESCRIPTION:MOM Group Dinner &amp\; Devotional at 6:30 p.m. at the home 
 of Misty Hayes.  This is for all PBL moms of children from birth to 18.
   See Beth Fry\, Misty Hayes or Traci Sproule for more details.\n\n&nbs
 p\;
URL;VALUE=URI:https://pblcoc.org/events/mom-group-dinner-devotional/
UID:urn:uuid:575b9a53-7d37-414c-866e-961e17a3f524
STATUS:CONFIRMED
ORGANIZER:
DTSTAMP:20260417T062957Z
DTSTART;TZID=America/New_York:20260103T183000
DTEND;TZID=America/New_York:20260103T193000
END:VEVENT
END:VCALENDAR