BEGIN:VCALENDAR
METHOD:PUBLISH
VERSION:2.0
CALSCALE:GREGORIAN
PRODID:-//NONSGML WPForms//NONSGML Sugar Calendar Feeds v3.9.0//EN
X-WR-CALNAME:PBL Family Photos Updated
X-WR-CALDESC:Palm Beach Lakes church of Christ
X-WR-TIMEZONE:America/New_York
BEGIN:VTIMEZONE
TZID:America/New_York
BEGIN:STANDARD
TZOFFSETFROM:-0400
TZOFFSETTO:-0500
DTSTART:20251102T060000
TZNAME:EST
END:STANDARD
END:VTIMEZONE
BEGIN:VTIMEZONE
TZID:America/New_York
BEGIN:STANDARD
TZOFFSETFROM:-0400
TZOFFSETTO:-0500
DTSTART:20251102T060000
TZNAME:EST
END:STANDARD
END:VTIMEZONE
BEGIN:VEVENT
SUMMARY:PBL Family Photos Updated
DESCRIPTION:PBL Family Photos Updated If you’ve never had your photo t
 aken in the Family Room\, if your photo needs to be updated\, or if you 
 have been personally contacted\, please have your photo taken after mor
 ning services or before evening services by Mike Erickson in the Family
  Room.\n\n&nbsp\;
URL;VALUE=URI:https://pblcoc.org/events/pbl-family-photos-updated/
UID:urn:uuid:631fc70a-da58-438e-bcee-933ee4411a1d
STATUS:CONFIRMED
ORGANIZER:
DTSTAMP:20260417T063307Z
DTSTART;VALUE=DATE:20260111
END:VEVENT
END:VCALENDAR