BEGIN:VCALENDAR
METHOD:PUBLISH
VERSION:2.0
CALSCALE:GREGORIAN
PRODID:-//NONSGML WPForms//NONSGML Sugar Calendar Feeds v3.9.0//EN
X-WR-CALNAME:Polishing the Pulpit
X-WR-CALDESC:Palm Beach Lakes church of Christ
X-WR-TIMEZONE:America/New_York
BEGIN:VTIMEZONE
TZID:America/New_York
BEGIN:DAYLIGHT
TZOFFSETFROM:-0500
TZOFFSETTO:-0400
DTSTART:20260308T070000
TZNAME:EDT
END:DAYLIGHT
END:VTIMEZONE
BEGIN:VTIMEZONE
TZID:America/New_York
BEGIN:DAYLIGHT
TZOFFSETFROM:-0500
TZOFFSETTO:-0400
DTSTART:20260308T070000
TZNAME:EDT
END:DAYLIGHT
END:VTIMEZONE
BEGIN:VEVENT
SUMMARY:Polishing the Pulpit
DESCRIPTION:Polishing the Pulpit in Sevierville\, TN. Thousands of Chris
 tians will gather in Sevierville\, Tennessee for a time to refresh\, ren
 ew and recharge.  Visit polishingthepulpit.com for details.
URL;VALUE=URI:https://pblcoc.org/events/polishing-the-pulpit/
UID:urn:uuid:3fb856a1-a4eb-4697-84d2-147da464e5bc
STATUS:CONFIRMED
ORGANIZER:
DTSTAMP:20260417T050033Z
DTSTART;VALUE=DATE:20260814
DTEND;VALUE=DATE:20260820
END:VEVENT
END:VCALENDAR