BEGIN:VCALENDAR
METHOD:PUBLISH
VERSION:2.0
CALSCALE:GREGORIAN
PRODID:-//NONSGML WPForms//NONSGML Sugar Calendar Feeds v3.9.0//EN
X-WR-CALNAME:Tuesday Morning Bible Study
X-WR-CALDESC:Palm Beach Lakes church of Christ
X-WR-TIMEZONE:America/New_York
BEGIN:VTIMEZONE
TZID:America/New_York
BEGIN:STANDARD
TZOFFSETFROM:-0400
TZOFFSETTO:-0500
DTSTART:20251102T060000
TZNAME:EST
END:STANDARD
END:VTIMEZONE
BEGIN:VTIMEZONE
TZID:America/New_York
BEGIN:STANDARD
TZOFFSETFROM:-0400
TZOFFSETTO:-0500
DTSTART:20251102T060000
TZNAME:EST
END:STANDARD
END:VTIMEZONE
BEGIN:VEVENT
SUMMARY:Tuesday Morning Bible Study
DESCRIPTION:Tuesday Morning Bible Study at 10:30 a.m. in the Family Room
 .  See Dan Jenkins for details.
URL;VALUE=URI:https://pblcoc.org/events/tuesday-morning-bible-study/
UID:urn:uuid:b660a50b-7c41-4884-9649-8f0b4de3c8df
STATUS:CONFIRMED
ORGANIZER:
DTSTAMP:20260417T054607Z
DTSTART;TZID=America/New_York:20260106T103000
DTEND;TZID=America/New_York:20260106T113000
END:VEVENT
END:VCALENDAR