BEGIN:VCALENDAR
METHOD:PUBLISH
VERSION:2.0
CALSCALE:GREGORIAN
PRODID:-//NONSGML WPForms//NONSGML Sugar Calendar Feeds v3.9.0//EN
X-WR-CALNAME:VBS Setup
X-WR-CALDESC:Palm Beach Lakes church of Christ
X-WR-TIMEZONE:America/New_York
BEGIN:VTIMEZONE
TZID:America/New_York
BEGIN:DAYLIGHT
TZOFFSETFROM:-0500
TZOFFSETTO:-0400
DTSTART:20260308T070000
TZNAME:EDT
END:DAYLIGHT
END:VTIMEZONE
BEGIN:VTIMEZONE
TZID:America/New_York
BEGIN:DAYLIGHT
TZOFFSETFROM:-0500
TZOFFSETTO:-0400
DTSTART:20260308T070000
TZNAME:EDT
END:DAYLIGHT
END:VTIMEZONE
BEGIN:VEVENT
SUMMARY:VBS Setup
DESCRIPTION:VBS Setup at 6:30 p.m. All members are encouraged to come an
 d help decorate for VBS.  See Ivan Villard or Robert Lupo for more deta
 ils.
URL;VALUE=URI:https://pblcoc.org/events/vbs-setup-2/
UID:urn:uuid:53cebcb9-162c-4e1f-a3db-f6ff37c38509
STATUS:CONFIRMED
ORGANIZER:
DTSTAMP:20260417T042302Z
DTSTART;TZID=America/New_York:20260528T183000
DTEND;TZID=America/New_York:20260528T213000
END:VEVENT
END:VCALENDAR