BEGIN:VCALENDAR
METHOD:PUBLISH
VERSION:2.0
CALSCALE:GREGORIAN
PRODID:-//NONSGML WPForms//NONSGML Sugar Calendar Feeds v3.9.0//EN
X-WR-CALNAME:VBS Setup
X-WR-CALDESC:Palm Beach Lakes church of Christ
X-WR-TIMEZONE:America/New_York
BEGIN:VTIMEZONE
TZID:America/New_York
BEGIN:DAYLIGHT
TZOFFSETFROM:-0500
TZOFFSETTO:-0400
DTSTART:20260308T070000
TZNAME:EDT
END:DAYLIGHT
END:VTIMEZONE
BEGIN:VTIMEZONE
TZID:America/New_York
BEGIN:DAYLIGHT
TZOFFSETFROM:-0500
TZOFFSETTO:-0400
DTSTART:20260308T070000
TZNAME:EDT
END:DAYLIGHT
END:VTIMEZONE
BEGIN:VEVENT
SUMMARY:VBS Setup
DESCRIPTION:VBS Setup beginning immediately after Bible Study on Wednesd
 ay\; Thursday &amp\; Friday at 6:30 p.m.  All members are encouraged to
  come and help decorate for VBS.  See Ivan Villard or Robert Lupo for m
 ore details.
URL;VALUE=URI:https://pblcoc.org/events/vbs-setup/
UID:urn:uuid:5b91a17a-9489-4050-9bb7-efc06e13e6f2
STATUS:CONFIRMED
ORGANIZER:
DTSTAMP:20260417T042314Z
DTSTART;TZID=America/New_York:20260527T201500
DTEND;TZID=America/New_York:20260527T211500
END:VEVENT
END:VCALENDAR