BEGIN:VCALENDAR
METHOD:PUBLISH
VERSION:2.0
CALSCALE:GREGORIAN
PRODID:-//NONSGML WPForms//NONSGML Sugar Calendar Feeds v3.9.0//EN
X-WR-CALNAME:VBS Work Day
X-WR-CALDESC:Palm Beach Lakes church of Christ
X-WR-TIMEZONE:America/New_York
BEGIN:VTIMEZONE
TZID:America/New_York
BEGIN:DAYLIGHT
TZOFFSETFROM:-0500
TZOFFSETTO:-0400
DTSTART:20260308T070000
TZNAME:EDT
END:DAYLIGHT
END:VTIMEZONE
BEGIN:VTIMEZONE
TZID:America/New_York
BEGIN:DAYLIGHT
TZOFFSETFROM:-0500
TZOFFSETTO:-0400
DTSTART:20260308T070000
TZNAME:EDT
END:DAYLIGHT
END:VTIMEZONE
BEGIN:VEVENT
SUMMARY:VBS Work Day
DESCRIPTION:VBS Work Day from 9:00 a.m. until noon.  All PBL members a
 re encouraged to come and help prepare decorations.  See Ivan Villard o
 r Robert Lupo for more details.
URL;VALUE=URI:https://pblcoc.org/events/vbs-work-day/
UID:urn:uuid:53347ac7-2218-47c1-8fad-1506eb90332e
STATUS:CONFIRMED
ORGANIZER:
DTSTAMP:20260417T032510Z
DTSTART;TZID=America/New_York:20260509T090000
DTEND;TZID=America/New_York:20260509T120000
END:VEVENT
END:VCALENDAR