BEGIN:VCALENDAR
METHOD:PUBLISH
VERSION:2.0
CALSCALE:GREGORIAN
PRODID:-//NONSGML WPForms//NONSGML Sugar Calendar Feeds v3.9.0//EN
X-WR-CALNAME:Wedding Shower for Bree Solis & James Lang
X-WR-CALDESC:Palm Beach Lakes church of Christ
X-WR-TIMEZONE:America/New_York
BEGIN:VTIMEZONE
TZID:America/New_York
BEGIN:DAYLIGHT
TZOFFSETFROM:-0500
TZOFFSETTO:-0400
DTSTART:20260308T070000
TZNAME:EDT
END:DAYLIGHT
END:VTIMEZONE
BEGIN:VTIMEZONE
TZID:America/New_York
BEGIN:DAYLIGHT
TZOFFSETFROM:-0500
TZOFFSETTO:-0400
DTSTART:20260308T070000
TZNAME:EDT
END:DAYLIGHT
END:VTIMEZONE
BEGIN:VEVENT
SUMMARY:Wedding Shower for Bree Solis & James Lang
DESCRIPTION:Wedding Shower for Bree Solis &amp\; James Lang at 4:30 p.m.
  in the Family Room.  They are registered at Amazon. See Julie Williams
  for more details.
URL;VALUE=URI:https://pblcoc.org/events/wedding-shower-for-bree-solis-ja
 mes-lang/
UID:urn:uuid:ceb49dbb-de2f-44bf-992e-51deb7f08fd1
STATUS:CONFIRMED
ORGANIZER:
DTSTAMP:20260417T101153Z
DTSTART;TZID=America/New_York:20260517T163000
DTEND;TZID=America/New_York:20260517T180000
END:VEVENT
END:VCALENDAR