BEGIN:VCALENDAR
METHOD:PUBLISH
VERSION:2.0
CALSCALE:GREGORIAN
PRODID:-//NONSGML WPForms//NONSGML Sugar Calendar Feeds v3.9.0//EN
X-WR-CALNAME:Young Adult Devo
X-WR-CALDESC:Palm Beach Lakes church of Christ
X-WR-TIMEZONE:America/New_York
BEGIN:VTIMEZONE
TZID:America/New_York
BEGIN:STANDARD
TZOFFSETFROM:-0400
TZOFFSETTO:-0500
DTSTART:20251102T060000
TZNAME:EST
END:STANDARD
END:VTIMEZONE
BEGIN:VTIMEZONE
TZID:America/New_York
BEGIN:STANDARD
TZOFFSETFROM:-0400
TZOFFSETTO:-0500
DTSTART:20251102T060000
TZNAME:EST
END:STANDARD
END:VTIMEZONE
BEGIN:VEVENT
SUMMARY:Young Adult Devo
DESCRIPTION:Young Adult Devo at 6:00 p.m. at the home of Dan &amp\; Judi
 e Jenkins.  See Ivan Villard for details.
URL;VALUE=URI:https://pblcoc.org/events/young-adult-devo/
UID:urn:uuid:936c06d9-cc50-453a-8638-b24c72430f68
STATUS:CONFIRMED
ORGANIZER:
DTSTAMP:20260417T050150Z
DTSTART;TZID=America/New_York:20260110T180000
DTEND;TZID=America/New_York:20260110T200000
END:VEVENT
END:VCALENDAR